Workbook

Sheet data
A1: 性別 | B1: 年 | C1: 結核 | D1: 悪性新生物 | E1: 糖尿病 | F1: 高血圧性疾患 | G1: 心疾患 | H1: 脳血管疾患 | I1: 肺炎 | J1: 慢性気管支炎及び肺気腫 | K1: 喘息 | L1: 胃潰瘍及び十二指腸潰瘍 | M1: 肝疾患 | N1: 腎不全 | O1: 老衰 | P1: 不慮の事故 | Q1: 交通事故 | R1: 自殺 | S1: 死亡者数総計
A2: 女 | B2: 1986 | C2: 1058 | D2: 78065 | E2: 4809 | F2: 7134 | G2: 70509 | H2: 67457 | I2: 20517 | J2: 1908 | K2: 2700 | L2: 1930 | M2: 6250 | N2: 5958 | O2: 17681 | P2: 8130 | Q2: 3392 | R2: 9168 | S2: =SUM(C2:R2) -> 306666
A3: 女 | B3: 1987 | C3: 1063 | D3: 80402 | E3: 4873 | F3: 6644 | G3: 71343 | H3: 64882 | I3: 21083 | J3: 1873 | K3: 2552 | L3: 1807 | M3: 6233 | N3: 6388 | O3: 16616 | P3: 8131 | Q3: 3537 | R3: 8550 | S3: =SUM(C3:R3) -> 305977
A4: 女 | B4: 1988 | C4: 918 | D4: 83455 | E4: 5078 | F4: 6366 | G4: 79280 | H4: 67863 | I4: 24570 | J4: 1987 | K4: 2561 | L4: 1696 | M4: 6461 | N4: 7241 | O4: 17490 | P4: 8854 | Q4: 3831 | R4: 8505 | S4: =SUM(C4:R4) -> 326156
A5: 女 | B5: 1989 | C5: 851 | D5: 85414 | E5: 4812 | F5: 5785 | G5: 78930 | H5: 63714 | I5: 25493 | J5: 1954 | K5: 2506 | L5: 1670 | M5: 6581 | N5: 7529 | O5: 15904 | P5: 9201 | Q5: 4165 | R5: 8186 | S5: =SUM(C5:R5) -> 322695
A6: 女 | B6: 1990 | C6: 919 | D6: 87018 | E6: 4979 | F6: 5847 | G6: 83704 | H6: 64317 | I6: 29598 | J6: 2170 | K6: 2535 | L6: 1682 | M6: 6444 | N6: 7943 | O6: 16133 | P6: 9923 | Q6: 4347 | R6: 7772 | S6: =SUM(C6:R6) -> 335331
A7: 女 | B7: 1991 | C7: 876 | D7: 89252 | E7: 5001 | F7: 5673 | G7: 85232 | H7: 62708 | I7: 30214 | J7: 2227 | K7: 2559 | L7: 1717 | M7: 6704 | N7: 7919 | O7: 15524 | P7: 10276 | Q7: 4345 | R7: 7398 | S7: =SUM(C7:R7) -> 337625
A8: 女 | B8: 1992 | C8: 833 | D8: 92243 | E8: 5065 | F8: 5514 | G8: 89162 | H8: 62627 | I8: 31946 | J8: 2220 | K8: 2621 | L8: 1664 | M8: 6768 | N8: 8822 | O8: 15748 | P8: 11071 | Q8: 4393 | R8: 7377 | S8: =SUM(C8:R8) -> 348074
A9: 女 | B9: 1993 | C9: 825 | D9: 93485 | E9: 5267 | F9: 5243 | G9: 91988 | H9: 63515 | I9: 35341 | J9: 2299 | K9: 2747 | L9: 1715 | M9: 6644 | N9: 8732 | O9: 15791 | P9: 11320 | Q9: 4273 | R9: 6976 | S9: =SUM(C9:R9) -> 356161
A10: 女 | B10: 1994 | C10: 804 | D10: 96774 | E10: 5596 | F10: 5114 | G10: 80711 | H10: 64729 | I10: 36415 | J10: 2435 | K10: 2545 | L10: 1722 | M10: 6410 | N10: 9002 | O10: 16131 | P10: 12033 | Q10: 4276 | R10: 6865 | S10: =SUM(C10:R10) -> 351562
A11: 女 | B11: 1995 | C11: 911 | D11: 103399 | E11: 7118 | F11: 5195 | G11: 69488 | H11: 76965 | I11: 37210 | J11: 2959 | K11: 3201 | L11: 2040 | M11: 5442 | N11: 8387 | O11: 14809 | P11: 17094 | Q11: 4375 | R11: 7189 | S11: =SUM(C11:R11) -> 365782
A12: 女 | B12: 1996 | C12: 794 | D12: 106359 | E12: 6444 | F12: 4632 | G12: 69252 | H12: 73887 | I12: 32499 | J12: 2728 | K12: 2687 | L12: 1831 | M12: 5319 | N12: 8708 | O12: 14506 | P12: 13699 | Q12: 4173 | R12: 7285 | S12: =SUM(C12:R12) -> 354803
A13: 女 | B13: 1997 | C13: 787 | D13: 108337 | E13: 6075 | F13: 4347 | G13: 70398 | H13: 72907 | I13: 36590 | J13: 2700 | K13: 2634 | L13: 1749 | M13: 5222 | N13: 8901 | O13: 15050 | P13: 13729 | Q13: 4157 | R13: 7593 | S13: =SUM(C13:R13) -> 361176
... A43: 男 | B43: 2006 | C43: 1517 | D43: 198052 | E43: 7268 | F43: 2095 | G43: 82811 | H43: 61348 | I43: 56572 | J43: 8093 | K43: 1290 | L43: 1924 | M43: 10909 | N43: 9714 | O43: 6872 | P43: 23329 | Q43: 6258 | R43: 21419 | S43: =SUM(C43:R43) -> 499471

Sheet ratio
A1: 性別 | B1: 年 | C1: 結核 | D1: 悪性新生物 | E1: 糖尿病 | F1: 高血圧性疾患 | G1: 心疾患 | H1: 脳血管疾患 | I1: 肺炎 | J1: 慢性気管支炎及び肺気腫 | K1: 喘息 | L1: 胃潰瘍及び十二指腸潰瘍 | M1: 肝疾患 | N1: 腎不全 | O1: 老衰 | P1: 不慮の事故 | Q1: 交通事故 | R1: 自殺 | S1: 総計
A2: 女 | B2: 1986 | C2: =data!C2/data!$S2 -> 0.0034500075 | D2: =data!D2/data!$S2 -> 0.25456034 | E2: =data!E2/data!$S2 -> 0.015681556 | F2: =data!F2/data!$S2 -> 0.023263094 | G2: =data!G2/data!$S2 -> 0.22992115 | H2: =data!H2/data!$S2 -> 0.21996896 | I2: =data!I2/data!$S2 -> 0.066903406 | J2: =data!J2/data!$S2 -> 0.0062217527 | ... R2: =data!R2/data!$S2 -> 0.029895717 | S2: =SUM(C2:R2) -> 1
A3: 女 | B3: 1987 | C3: =data!C3/data!$S3 -> 0.0034741173 | D3: =data!D3/data!$S3 -> 0.26277138 | E3: =data!E3/data!$S3 -> 0.015926034 | F3: =data!F3/data!$S3 -> 0.02171405 | G3: =data!G3/data!$S3 -> 0.23316458 | H3: =data!H3/data!$S3 -> 0.21204862 | I3: =data!I3/data!$S3 -> 0.068903872 | J3: =data!J3/data!$S3 -> 0.0061213751 | ... R3: =data!R3/data!$S3 -> 0.027943277 | S3: =SUM(C3:R3) -> 1
A4: 女 | B4: 1988 | C4: =data!C4/data!$S4 -> 0.0028146041 | D4: =data!D4/data!$S4 -> 0.25587449 | E4: =data!E4/data!$S4 -> 0.015569237 | F4: =data!F4/data!$S4 -> 0.019518267 | G4: =data!G4/data!$S4 -> 0.24307387 | H4: =data!H4/data!$S4 -> 0.20806914 | I4: =data!I4/data!$S4 -> 0.07533205 | J4: =data!J4/data!$S4 -> 0.0060921767 | ... R4: =data!R4/data!$S4 -> 0.026076479 | S4: =SUM(C4:R4) -> 1
A5: 女 | B5: 1989 | C5: =data!C5/data!$S5 -> 0.0026371651 | D5: =data!D5/data!$S5 -> 0.26468957 | E5: =data!E5/data!$S5 -> 0.014911914 | F5: =data!F5/data!$S5 -> 0.017927145 | G5: =data!G5/data!$S5 -> 0.24459629 | H5: =data!H5/data!$S5 -> 0.19744341 | I5: =data!I5/data!$S5 -> 0.079000294 | J5: =data!J5/data!$S5 -> 0.0060552534 | ... R5: =data!R5/data!$S5 -> 0.025367607 | S5: =SUM(C5:R5) -> 1
A6: 女 | B6: 1990 | C6: =data!C6/data!$S6 -> 0.0027405757 | D6: =data!D6/data!$S6 -> 0.25949882 | E6: =data!E6/data!$S6 -> 0.014848016 | F6: =data!F6/data!$S6 -> 0.017436503 | G6: =data!G6/data!$S6 -> 0.24961605 | H6: =data!H6/data!$S6 -> 0.19180153 | I6: =data!I6/data!$S6 -> 0.088265028 | J6: =data!J6/data!$S6 -> 0.006471218 | ... R6: =data!R6/data!$S6 -> 0.0231771 | S6: =SUM(C6:R6) -> 1
A7: 女 | B7: 1991 | C7: =data!C7/data!$S7 -> 0.0025945946 | D7: =data!D7/data!$S7 -> 0.26435246 | E7: =data!E7/data!$S7 -> 0.014812292 | F7: =data!F7/data!$S7 -> 0.016802666 | G7: =data!G7/data!$S7 -> 0.25244576 | H7: =data!H7/data!$S7 -> 0.18573269 | I7: =data!I7/data!$S7 -> 0.089489819 | J7: =data!J7/data!$S7 -> 0.0065960755 | ... R7: =data!R7/data!$S7 -> 0.021911884 | S7: =SUM(C7:R7) -> 1
A8: 女 | B8: 1992 | C8: =data!C8/data!$S8 -> 0.0023931693 | D8: =data!D8/data!$S8 -> 0.26500974 | E8: =data!E8/data!$S8 -> 0.014551503 | F8: =data!F8/data!$S8 -> 0.015841459 | G8: =data!G8/data!$S8 -> 0.25615817 | H8: =data!H8/data!$S8 -> 0.17992438 | I8: =data!I8/data!$S8 -> 0.091779334 | J8: =data!J8/data!$S8 -> 0.0063779541 | ... R8: =data!R8/data!$S8 -> 0.021193769 | S8: =SUM(C8:R8) -> 1
A9: 女 | B9: 1993 | C9: =data!C9/data!$S9 -> 0.0023163682 | D9: =data!D9/data!$S9 -> 0.26247961 | E9: =data!E9/data!$S9 -> 0.014788256 | F9: =data!F9/data!$S9 -> 0.014720871 | G9: =data!G9/data!$S9 -> 0.25827645 | H9: =data!H9/data!$S9 -> 0.17833227 | I9: =data!I9/data!$S9 -> 0.099227597 | J9: =data!J9/data!$S9 -> 0.0064549459 | ... R9: =data!R9/data!$S9 -> 0.019586648 | S9: =SUM(C9:R9) -> 1
A10: 女 | B10: 1994 | C10: =data!C10/data!$S10 -> 0.0022869366 | D10: =data!D10/data!$S10 -> 0.27526866 | E10: =data!E10/data!$S10 -> 0.015917534 | F10: =data!F10/data!$S10 -> 0.01454651 | G10: =data!G10/data!$S10 -> 0.22957828 | H10: =data!H10/data!$S10 -> 0.18411831 | I10: =data!I10/data!$S10 -> 0.10358059 | J10: =data!J10/data!$S10 -> 0.0069262321 | ... R10: =data!R10/data!$S10 -> 0.019527139 | S10: =SUM(C10:R10) -> 1
A11: 女 | B11: 1995 | C11: =data!C11/data!$S11 -> 0.0024905545 | D11: =data!D11/data!$S11 -> 0.2826793 | E11: =data!E11/data!$S11 -> 0.019459678 | F11: =data!F11/data!$S11 -> 0.014202448 | G11: =data!G11/data!$S11 -> 0.18997108 | H11: =data!H11/data!$S11 -> 0.21041221 | I11: =data!I11/data!$S11 -> 0.10172726 | J11: =data!J11/data!$S11 -> 0.0080895178 | ... R11: =data!R11/data!$S11 -> 0.019653783 | S11: =SUM(C11:R11) -> 1
A12: 女 | B12: 1996 | C12: =data!C12/data!$S12 -> 0.0022378616 | D12: =data!D12/data!$S12 -> 0.29976917 | E12: =data!E12/data!$S12 -> 0.018162191 | F12: =data!F12/data!$S12 -> 0.013055132 | G12: =data!G12/data!$S12 -> 0.19518437 | H12: =data!H12/data!$S12 -> 0.20824796 | I12: =data!I12/data!$S12 -> 0.091597309 | J12: =data!J12/data!$S12 -> 0.0076887738 | ... R12: =data!R12/data!$S12 -> 0.020532521 | S12: =SUM(C12:R12) -> 1
A13: 女 | B13: 1997 | C13: =data!C13/data!$S13 -> 0.0021789931 | D13: =data!D13/data!$S13 -> 0.29995625 | E13: =data!E13/data!$S13 -> 0.016820054 | F13: =data!F13/data!$S13 -> 0.012035683 | G13: =data!G13/data!$S13 -> 0.19491328 | H13: =data!H13/data!$S13 -> 0.20186003 | I13: =data!I13/data!$S13 -> 0.10130795 | J13: =data!J13/data!$S13 -> 0.0074755798 | ... R13: =data!R13/data!$S13 -> 0.021022992 | S13: =SUM(C13:R13) -> 1
... A43: 男 | B43: 2006 | C43: =data!C43/data!$S43 -> 0.0030372134 | D43: =data!D43/data!$S43 -> 0.39652352 | E43: =data!E43/data!$S43 -> 0.014551395 | F43: =data!F43/data!$S43 -> 0.0041944377 | G43: =data!G43/data!$S43 -> 0.16579741 | H43: =data!H43/data!$S43 -> 0.12282595 | I43: =data!I43/data!$S43 -> 0.11326383 | J43: =data!J43/data!$S43 -> 0.016203143 | ... R43: =data!R43/data!$S43 -> 0.042883371 | S43: =SUM(C43:R43) -> 1
